BEGIN:VCALENDAR
VERSION:2.0
PRODID:-//wp-events-plugin.com//7.2.3.1//EN
TZID:America/Winnipeg
X-WR-TIMEZONE:America/Winnipeg
BEGIN:VEVENT
UID:134@gct3.ca
DTSTART;TZID=America/Winnipeg:20260505T090000
DTEND;TZID=America/Winnipeg:20260505T170000
DTSTAMP:20260417T191851Z
URL:https://gct3.ca/events/red-dress-day-round-dance/
SUMMARY:Red Dress Day Round Dance
DESCRIPTION:
ATTACH;FMTTYPE=image/jpeg:https://gct3.ca/wp-content/uploads/2026/04/Red-D
 ress-Day-Round-Dance-Save-the-Date-1-scaled.jpg
CATEGORIES:Wiisokotatiwin (IRS)
END:VEVENT
BEGIN:VTIMEZONE
TZID:America/Winnipeg
X-LIC-LOCATION:America/Winnipeg
BEGIN:DAYLIGHT
DTSTART:20260308T030000
TZOFFSETFROM:-0600
TZOFFSETTO:-0500
TZNAME:CDT
END:DAYLIGHT
END:VTIMEZONE
END:VCALENDAR