BEGIN:VCALENDAR
VERSION:2.0
PRODID:-//wp-events-plugin.com//7.2.3.1//EN
TZID:America/Winnipeg
X-WR-TIMEZONE:America/Winnipeg
BEGIN:VEVENT
UID:137@gct3.ca
DTSTART;TZID=America/Winnipeg:20260526T100000
DTEND;TZID=America/Winnipeg:20260526T150000
DTSTAMP:20260424T164150Z
URL:https://gct3.ca/events/indian-boarding-home-class-action-session-north
 west-angle-33-first-nation/
SUMMARY:Indian Boarding Home Class Action Session - Northwest Angle #33 Fir
 st Nation
DESCRIPTION:
ATTACH;FMTTYPE=image/jpeg:https://gct3.ca/wp-content/uploads/2026/04/nwa-3
 3.png
CATEGORIES:Wiisokotatiwin (IRS)
LOCATION:Northwest Angle #33 First Nation\, Dog Paw Community Hall\, Dog Pa
 w\, Ontario\, Canada
X-APPLE-STRUCTURED-LOCATION;VALUE=URI;X-ADDRESS=Dog Paw Community Hall\, Do
 g Paw\, Ontario\, Canada;X-APPLE-RADIUS=100;X-TITLE=Northwest Angle #33 Fi
 rst Nation:geo:0,0
END:VEVENT
BEGIN:VTIMEZONE
TZID:America/Winnipeg
X-LIC-LOCATION:America/Winnipeg
BEGIN:DAYLIGHT
DTSTART:20260308T030000
TZOFFSETFROM:-0600
TZOFFSETTO:-0500
TZNAME:CDT
END:DAYLIGHT
END:VTIMEZONE
END:VCALENDAR